BEGIN:VCALENDAR
VERSION:2.0
PRODID:-//Schützenverein Dolberg gegr. 1695 e.V. - ECPv6.15.20//NONSGML v1.0//EN
CALSCALE:GREGORIAN
METHOD:PUBLISH
X-ORIGINAL-URL:https://www.schuetzenverein-dolberg.de
X-WR-CALDESC:Veranstaltungen für Schützenverein Dolberg gegr. 1695 e.V.
REFRESH-INTERVAL;VALUE=DURATION:PT1H
X-Robots-Tag:noindex
X-PUBLISHED-TTL:PT1H
BEGIN:VTIMEZONE
TZID:Europe/Berlin
BEGIN:DAYLIGHT
TZOFFSETFROM:+0100
TZOFFSETTO:+0200
TZNAME:CEST
DTSTART:20250330T010000
END:DAYLIGHT
BEGIN:STANDARD
TZOFFSETFROM:+0200
TZOFFSETTO:+0100
TZNAME:CET
DTSTART:20251026T010000
END:STANDARD
BEGIN:DAYLIGHT
TZOFFSETFROM:+0100
TZOFFSETTO:+0200
TZNAME:CEST
DTSTART:20260329T010000
END:DAYLIGHT
BEGIN:STANDARD
TZOFFSETFROM:+0200
TZOFFSETTO:+0100
TZNAME:CET
DTSTART:20261025T010000
END:STANDARD
BEGIN:DAYLIGHT
TZOFFSETFROM:+0100
TZOFFSETTO:+0200
TZNAME:CEST
DTSTART:20270328T010000
END:DAYLIGHT
BEGIN:STANDARD
TZOFFSETFROM:+0200
TZOFFSETTO:+0100
TZNAME:CET
DTSTART:20271031T010000
END:STANDARD
END:VTIMEZONE
BEGIN:VEVENT
DTSTART;TZID=Europe/Berlin:20260424T200000
DTEND;TZID=Europe/Berlin:20260424T233000
DTSTAMP:20260424T163027
CREATED:20230103T110630Z
LAST-MODIFIED:20260107T115942Z
UID:3833-1777060800-1777073400@www.schuetzenverein-dolberg.de
SUMMARY:Schützenversammlung mit Vogelpräsentation
DESCRIPTION:Unsere mit Spannung erwartete Präsentation des Adlers! \n…wie sieht er aus? …welchen Namen trägt er? \n 
URL:https://www.schuetzenverein-dolberg.de/termin/schuetzenversammlung-mit-vogelpraesentation-4/
LOCATION:Mehrzweckhalle Dolberg\, Lambertistraße 6\, Ahlen\, 59229
ATTACH;FMTTYPE=image/jpeg:https://www.schuetzenverein-dolberg.de/wp-content/uploads/IMG_4842.jpg
ORGANIZER;CN="Sch%C3%BCtzenverein Dolberg gegr. 1695 e.V.":MAILTO:info@schuetzenverein-dolberg.de
END:VEVENT
END:VCALENDAR